BEGIN:VCALENDAR
VERSION:2.0
PRODID:-//UIS - ECPv5.6.0//NONSGML v1.0//EN
CALSCALE:GREGORIAN
METHOD:PUBLISH
X-WR-CALNAME:UIS
X-ORIGINAL-URL:https://uis-speleo.org
X-WR-CALDESC:Events for UIS
BEGIN:VTIMEZONE
TZID:UTC
BEGIN:STANDARD
TZOFFSETFROM:+0000
TZOFFSETTO:+0000
TZNAME:UTC
DTSTART:20260101T000000
END:STANDARD
END:VTIMEZONE
BEGIN:VEVENT
DTSTART;VALUE=DATE:20260321
DTEND;VALUE=DATE:20260322
DTSTAMP:20260425T170940
CREATED:20260204T062026Z
LAST-MODIFIED:20260204T062241Z
UID:3348-1774051200-1774137599@uis-speleo.org
SUMMARY:Speleomíting 2026
DESCRIPTION:We are pleased to announce and invite you to the annual caving conference\, Speleomíting 2026\, which will be held on March 21. 2026 in the Slovak Museum of Nature Protection and Speleology\, (https://www.smopaj.sk/en) Školská 121/4\, Liptovský Mikuláš\, Slovakia. \n\n\nSpeleomíting is a small-scale event where cavers meet and share recent advancements in cave exploration\, documentation\, cave protection\, and research\, in a cozy\, informal atmosphere. The official presenting language is Slovak\, but contributions in Czech\, English\, and Polish are very welcome. \n\n\nThe deadline for submission of a talk is March 7th. \n\n\nFor more information\, please visit https://sss.sk/page/2/ or reach out to sss.speleomiting@gmail.com.
URL:https://uis-speleo.org/index.php/event/speleomiting-2026/
LOCATION:Liptovský Mikuláš\, Slovakia
CATEGORIES:Conference
END:VEVENT
END:VCALENDAR